BEGIN:VCALENDAR
VERSION:2.0
PRODID:-//Your Company//Your App//EN
CALSCALE:GREGORIAN
BEGIN:VEVENT
UID:69e65b2b23d5c
DTSTAMP:20260420T165819Z
DTSTART:20261014T070000Z
SUMMARY:ComPOD
DESCRIPTION: Veranstaltung - ComPOD - Link: https://i2fm.de/seminar/compod/
DTEND:20261015T150000Z
END:VEVENT
END:VCALENDAR
